BEGIN:VCALENDAR
VERSION:2.0
PRODID:-//First Aid Cornwall - ECPv6.15.20//NONSGML v1.0//EN
CALSCALE:GREGORIAN
METHOD:PUBLISH
X-ORIGINAL-URL:https://www.first-aid-cornwall.co.uk
X-WR-CALDESC:Events for First Aid Cornwall
REFRESH-INTERVAL;VALUE=DURATION:PT1H
X-Robots-Tag:noindex
X-PUBLISHED-TTL:PT1H
BEGIN:VTIMEZONE
TZID:Europe/London
BEGIN:DAYLIGHT
TZOFFSETFROM:+0000
TZOFFSETTO:+0100
TZNAME:BST
DTSTART:20250330T010000
END:DAYLIGHT
BEGIN:STANDARD
TZOFFSETFROM:+0100
TZOFFSETTO:+0000
TZNAME:GMT
DTSTART:20251026T010000
END:STANDARD
BEGIN:DAYLIGHT
TZOFFSETFROM:+0000
TZOFFSETTO:+0100
TZNAME:BST
DTSTART:20260329T010000
END:DAYLIGHT
BEGIN:STANDARD
TZOFFSETFROM:+0100
TZOFFSETTO:+0000
TZNAME:GMT
DTSTART:20261025T010000
END:STANDARD
BEGIN:DAYLIGHT
TZOFFSETFROM:+0000
TZOFFSETTO:+0100
TZNAME:BST
DTSTART:20270328T010000
END:DAYLIGHT
BEGIN:STANDARD
TZOFFSETFROM:+0100
TZOFFSETTO:+0000
TZNAME:GMT
DTSTART:20271031T010000
END:STANDARD
END:VTIMEZONE
BEGIN:VEVENT
DTSTART;TZID=Europe/London:20260617T093000
DTEND;TZID=Europe/London:20260618T163000
DTSTAMP:20260420T123122
CREATED:20260311T103117Z
LAST-MODIFIED:20260311T103117Z
UID:10000225-1781688600-1781800200@www.first-aid-cornwall.co.uk
SUMMARY:Blended Learning First Aid at Work 17th June 2026
DESCRIPTION:Our Blended Learning First Aid at Work course consists of 6 hours online learning followed by 2 days classroom based training. \nOnce you have booked on to the course you will receive an email from us containing your login details for our eLearning portal. \nOnline learning must be completed before attending your classroom based training. \nThe course provides learners with in-depth information and skills on how to provide effective treatment and care to a person\, or persons that become ill or injured whilst at work. The course has a large emphasis on practical application of the skills learnt and ample opportunity is provided for hands-on practice in a relaxed\, low stress environment.
URL:https://www.first-aid-cornwall.co.uk/first-aid-course/blended-learning-first-aid-at-work-17th-june2026-2/
LOCATION:77 Lemon Street\, 77 Lemon Street\, Truro\, Cornwall\, TR1 2PN\, United Kingdom
CATEGORIES:Blended Learning First Aid at Work
ATTACH;FMTTYPE=image/jpeg:https://www.first-aid-cornwall.co.uk/wp-content/uploads/2023/12/jakesmallwood_FIRSTAIDCORNWALL_34.jpg
ORGANIZER;CN="First Aid Cornwall":MAILTO:info@first-aid-cornwall.co.uk
GEO:50.2623132;-5.0516999
X-APPLE-STRUCTURED-LOCATION;VALUE=URI;X-ADDRESS=77 Lemon Street 77 Lemon Street Truro Cornwall TR1 2PN United Kingdom;X-APPLE-RADIUS=500;X-TITLE=77 Lemon Street:geo:-5.0516999,50.2623132
END:VEVENT
END:VCALENDAR