BEGIN:VCALENDAR
VERSION:2.0
PRODID:-//First Aid Cornwall - ECPv6.15.20//NONSGML v1.0//EN
CALSCALE:GREGORIAN
METHOD:PUBLISH
X-WR-CALNAME:First Aid Cornwall
X-ORIGINAL-URL:https://www.first-aid-cornwall.co.uk
X-WR-CALDESC:Events for First Aid Cornwall
REFRESH-INTERVAL;VALUE=DURATION:PT1H
X-Robots-Tag:noindex
X-PUBLISHED-TTL:PT1H
BEGIN:VTIMEZONE
TZID:Europe/London
BEGIN:DAYLIGHT
TZOFFSETFROM:+0000
TZOFFSETTO:+0100
TZNAME:BST
DTSTART:20240331T010000
END:DAYLIGHT
BEGIN:STANDARD
TZOFFSETFROM:+0100
TZOFFSETTO:+0000
TZNAME:GMT
DTSTART:20241027T010000
END:STANDARD
BEGIN:DAYLIGHT
TZOFFSETFROM:+0000
TZOFFSETTO:+0100
TZNAME:BST
DTSTART:20250330T010000
END:DAYLIGHT
BEGIN:STANDARD
TZOFFSETFROM:+0100
TZOFFSETTO:+0000
TZNAME:GMT
DTSTART:20251026T010000
END:STANDARD
BEGIN:DAYLIGHT
TZOFFSETFROM:+0000
TZOFFSETTO:+0100
TZNAME:BST
DTSTART:20260329T010000
END:DAYLIGHT
BEGIN:STANDARD
TZOFFSETFROM:+0100
TZOFFSETTO:+0000
TZNAME:GMT
DTSTART:20261025T010000
END:STANDARD
END:VTIMEZONE
BEGIN:VEVENT
DTSTART;TZID=Europe/London:20251106T093000
DTEND;TZID=Europe/London:20251106T163000
DTSTAMP:20260422T231048
CREATED:20251016T095908Z
LAST-MODIFIED:20251016T095908Z
UID:10000183-1762421400-1762446600@www.first-aid-cornwall.co.uk
SUMMARY:Emergency Paediatric First Aid - 1 Day Course 6th November 2025
DESCRIPTION:The Emergency Paediatric First Aid course provides students with Basic First Aid skills  in line with current UK Resuscitation Council guidance.  It is an excellent course to teach members of staff basic life saving skills for adults\, children and infants during a short\, concise course that focuses on immediate priorities and effective\, simple care that can be performed until professional medical assistance arrives. \nEmergency Paediatric First Aid course meets with the recommendations for training an ‘Appointed Person’ in basic first aid skills as detailed in the HSE Approved Code of Practice L74. \nThe course content includes: \n\n\nImportance of self-protection and use of barriers \n\n\nPrimary Survey \n\n\nSecondary Survey \n\n\nUnconscious Casualties and Recovery Position \n\n\nAdult\, child and infant CPR \n\n\nChain of Survival \n\n\nAnaphylaxis \n\n\nBasic Bleeding Control \n\n\nSeizure Management \n\n\nChoking in adults\, children and infants \n\n\n 
URL:https://www.first-aid-cornwall.co.uk/first-aid-course/emergency-paediatric-first-aid-1-day-course-6th-november2025/
LOCATION:77 Lemon Street\, 77 Lemon Street\, Truro\, Cornwall\, TR1 2PN\, United Kingdom
CATEGORIES:Emergency Paediatric Training - 1 Day Course
ATTACH;FMTTYPE=image/jpeg:https://www.first-aid-cornwall.co.uk/wp-content/uploads/2023/12/Blended-Learning-Paediatric-Early-Years-First-Aid.jpg
ORGANIZER;CN="First Aid Cornwall":MAILTO:info@first-aid-cornwall.co.uk
GEO:50.2623132;-5.0516999
X-APPLE-STRUCTURED-LOCATION;VALUE=URI;X-ADDRESS=77 Lemon Street 77 Lemon Street Truro Cornwall TR1 2PN United Kingdom;X-APPLE-RADIUS=500;X-TITLE=77 Lemon Street:geo:-5.0516999,50.2623132
END:VEVENT
BEGIN:VEVENT
DTSTART;TZID=Europe/London:20251029T093000
DTEND;TZID=Europe/London:20251029T163000
DTSTAMP:20260422T231048
CREATED:20251016T095618Z
LAST-MODIFIED:20251016T095618Z
UID:10000182-1761730200-1761755400@www.first-aid-cornwall.co.uk
SUMMARY:Emergency Paediatric First Aid - 1 Day Course 29th October 2025
DESCRIPTION:The Emergency Paediatric First Aid course provides students with Basic First Aid skills  in line with current UK Resuscitation Council guidance.  It is an excellent course to teach members of staff basic life saving skills for adults\, children and infants during a short\, concise course that focuses on immediate priorities and effective\, simple care that can be performed until professional medical assistance arrives. \nEmergency Paediatric First Aid course meets with the recommendations for training an ‘Appointed Person’ in basic first aid skills as detailed in the HSE Approved Code of Practice L74. \nThe course content includes: \n\n\nImportance of self-protection and use of barriers \n\n\nPrimary Survey \n\n\nSecondary Survey \n\n\nUnconscious Casualties and Recovery Position \n\n\nAdult\, child and infant CPR \n\n\nChain of Survival \n\n\nAnaphylaxis \n\n\nBasic Bleeding Control \n\n\nSeizure Management \n\n\nChoking in adults\, children and infants \n\n\n 
URL:https://www.first-aid-cornwall.co.uk/first-aid-course/emergency-paediatric-first-aid-29th-october-2025-2/
LOCATION:77 Lemon Street\, 77 Lemon Street\, Truro\, Cornwall\, TR1 2PN\, United Kingdom
CATEGORIES:Emergency Paediatric Training - 1 Day Course
ATTACH;FMTTYPE=image/jpeg:https://www.first-aid-cornwall.co.uk/wp-content/uploads/2023/12/Blended-Learning-Paediatric-Early-Years-First-Aid.jpg
ORGANIZER;CN="First Aid Cornwall":MAILTO:info@first-aid-cornwall.co.uk
GEO:50.2623132;-5.0516999
X-APPLE-STRUCTURED-LOCATION;VALUE=URI;X-ADDRESS=77 Lemon Street 77 Lemon Street Truro Cornwall TR1 2PN United Kingdom;X-APPLE-RADIUS=500;X-TITLE=77 Lemon Street:geo:-5.0516999,50.2623132
END:VEVENT
END:VCALENDAR