BEGIN:VCALENDAR
VERSION:2.0
PRODID:-//First Aid Cornwall - ECPv6.15.20//NONSGML v1.0//EN
CALSCALE:GREGORIAN
METHOD:PUBLISH
X-ORIGINAL-URL:https://www.first-aid-cornwall.co.uk
X-WR-CALDESC:Events for First Aid Cornwall
REFRESH-INTERVAL;VALUE=DURATION:PT1H
X-Robots-Tag:noindex
X-PUBLISHED-TTL:PT1H
BEGIN:VTIMEZONE
TZID:Europe/London
BEGIN:DAYLIGHT
TZOFFSETFROM:+0000
TZOFFSETTO:+0100
TZNAME:BST
DTSTART:20240331T010000
END:DAYLIGHT
BEGIN:STANDARD
TZOFFSETFROM:+0100
TZOFFSETTO:+0000
TZNAME:GMT
DTSTART:20241027T010000
END:STANDARD
BEGIN:DAYLIGHT
TZOFFSETFROM:+0000
TZOFFSETTO:+0100
TZNAME:BST
DTSTART:20250330T010000
END:DAYLIGHT
BEGIN:STANDARD
TZOFFSETFROM:+0100
TZOFFSETTO:+0000
TZNAME:GMT
DTSTART:20251026T010000
END:STANDARD
BEGIN:DAYLIGHT
TZOFFSETFROM:+0000
TZOFFSETTO:+0100
TZNAME:BST
DTSTART:20260329T010000
END:DAYLIGHT
BEGIN:STANDARD
TZOFFSETFROM:+0100
TZOFFSETTO:+0000
TZNAME:GMT
DTSTART:20261025T010000
END:STANDARD
END:VTIMEZONE
BEGIN:VEVENT
DTSTART;TZID=Europe/London:20251124T090000
DTEND;TZID=Europe/London:20251124T170000
DTSTAMP:20260423T110036
CREATED:20251013T084330Z
LAST-MODIFIED:20251112T085930Z
UID:10000179-1763974800-1764003600@www.first-aid-cornwall.co.uk
SUMMARY:Outdoor First Aid 1 Day Course - 24th November 2025
DESCRIPTION:This course consists of a one day’s training in Outdoor First Aid Procedures designed to give the student a basic knowledge for providing first aid in the outdoors. \nLeading groups of people in remote areas\, or participating in any outdoor activities can bring with it unknown hazards.  Common injuries sustained in the outdoors range from simple cuts and grazes to broken limbs\, head and back injuries and hypothermia. \nBeing prepared to deal with any emergency should always form part of your emergency plan and you should be prepared to deal effectively with first aid related incidents when working in this environment.
URL:https://www.first-aid-cornwall.co.uk/first-aid-course/outdoor-first-aid-1-day-course-24th-november-2025/
LOCATION:Mount Pleasant Eco Park\, Chapel Hill\, Porthtowan\, Cornwall\, TR4 8HL\, United Kingdom
CATEGORIES:Outdoor First Aid
ATTACH;FMTTYPE=image/jpeg:https://www.first-aid-cornwall.co.uk/wp-content/uploads/2023/12/jakesmallwood_FIRSTAIDCORNWALL_46.jpg
ORGANIZER;CN="First Aid Cornwall":MAILTO:info@first-aid-cornwall.co.uk
GEO:50.2741874;-5.2374244
X-APPLE-STRUCTURED-LOCATION;VALUE=URI;X-ADDRESS=Mount Pleasant Eco Park Chapel Hill Porthtowan Cornwall TR4 8HL United Kingdom;X-APPLE-RADIUS=500;X-TITLE=Chapel Hill:geo:-5.2374244,50.2741874
END:VEVENT
BEGIN:VEVENT
DTSTART;TZID=Europe/London:20251124T090000
DTEND;TZID=Europe/London:20251124T170000
DTSTAMP:20260423T110036
CREATED:20251013T085759Z
LAST-MODIFIED:20251112T090014Z
UID:10000180-1763974800-1764003600@www.first-aid-cornwall.co.uk
SUMMARY:Blended Forest School First Aid - 24th November 2025
DESCRIPTION:This qualification consists of 7-8 hours online learning followed by 1 day practical training with us. \nThe course is suitable for learners working in an outdoor forest school environment who are required to undertake the role of a first aider in the workplace. \nOnce you have booked on to the course you will receive an email from us containing your login details for our eLearning portal. \nOnline learning must be completed before attending your practical  training. \n  \nTopics include: \n\n\n\nRoles and Responsibilities of a First Aider\n\n\nIncident and Casualty Assessment and Reporting\n\n\nOutdoor scene survey\n\n\nFirst Aid kits and infection control\n\n\nEmergency equipment – outdoor shelters\n\n\nGetting help in an outdoors emergency including air\, land and sea rescue\n\n\nCPR and AED (defibrillator)\n\n\nDrowning\n\n\nChoking\n\n\nDealing with an Unconscious Casualty\n\n\nSeizures\n\n\nAnaphylaxis\n\n\nAsthma\, diabetes\, epile[sy\, heart attack\, angina\, stroke\n\n\nShock including cold water shock\n\n\nMinor Injuries including cuts. grazes\, splinters\n\n\nInjuries to bones\, muscles and joints including suspected spinal injuries\n\n\nChest injuries\n\n\nBurns including electrical\, UV light and friction (blister) burns\n\n\nEye\, Ears and Nose injuries\n\n\nExternal Bleeding\n\n\nExtremes of Temperature including hypothermia\, frost bite\, heat exhaustion\, heatstroke and dehydration\n\n\nPoisoning including blue green algae\, giant hogweed\n\n\nWeil’s Disease\, Cryptosporidiosis\, E.coli 0157\n\n\nAnimal and insect bites and stings (including ticks and Lyme Disease\, jellyfish\, sea urchins and snakes
URL:https://www.first-aid-cornwall.co.uk/first-aid-course/blended-forest-school-first-aid-course-24th-november-2025-2/
LOCATION:Mount Pleasant Eco Park\, Chapel Hill\, Porthtowan\, Cornwall\, TR4 8HL\, United Kingdom
CATEGORIES:Outdoor First Aid
ATTACH;FMTTYPE=image/jpeg:https://www.first-aid-cornwall.co.uk/wp-content/uploads/2023/12/jakesmallwood_FIRSTAIDCORNWALL_46.jpg
ORGANIZER;CN="First Aid Cornwall":MAILTO:info@first-aid-cornwall.co.uk
GEO:50.2741874;-5.2374244
X-APPLE-STRUCTURED-LOCATION;VALUE=URI;X-ADDRESS=Mount Pleasant Eco Park Chapel Hill Porthtowan Cornwall TR4 8HL United Kingdom;X-APPLE-RADIUS=500;X-TITLE=Chapel Hill:geo:-5.2374244,50.2741874
END:VEVENT
END:VCALENDAR