BEGIN:VCALENDAR
VERSION:2.0
PRODID:-//First Aid Cornwall - ECPv6.15.20//NONSGML v1.0//EN
CALSCALE:GREGORIAN
METHOD:PUBLISH
X-ORIGINAL-URL:https://www.first-aid-cornwall.co.uk
X-WR-CALDESC:Events for First Aid Cornwall
REFRESH-INTERVAL;VALUE=DURATION:PT1H
X-Robots-Tag:noindex
X-PUBLISHED-TTL:PT1H
BEGIN:VTIMEZONE
TZID:Europe/London
BEGIN:DAYLIGHT
TZOFFSETFROM:+0000
TZOFFSETTO:+0100
TZNAME:BST
DTSTART:20250330T010000
END:DAYLIGHT
BEGIN:STANDARD
TZOFFSETFROM:+0100
TZOFFSETTO:+0000
TZNAME:GMT
DTSTART:20251026T010000
END:STANDARD
BEGIN:DAYLIGHT
TZOFFSETFROM:+0000
TZOFFSETTO:+0100
TZNAME:BST
DTSTART:20260329T010000
END:DAYLIGHT
BEGIN:STANDARD
TZOFFSETFROM:+0100
TZOFFSETTO:+0000
TZNAME:GMT
DTSTART:20261025T010000
END:STANDARD
BEGIN:DAYLIGHT
TZOFFSETFROM:+0000
TZOFFSETTO:+0100
TZNAME:BST
DTSTART:20270328T010000
END:DAYLIGHT
BEGIN:STANDARD
TZOFFSETFROM:+0100
TZOFFSETTO:+0000
TZNAME:GMT
DTSTART:20271031T010000
END:STANDARD
END:VTIMEZONE
BEGIN:VEVENT
DTSTART;TZID=Europe/London:20260331T090000
DTEND;TZID=Europe/London:20260331T170000
DTSTAMP:20260421T070443
CREATED:20260126T170157Z
LAST-MODIFIED:20260126T170157Z
UID:10000210-1774947600-1774976400@www.first-aid-cornwall.co.uk
SUMMARY:Outdoor First Aid 1 Day Course - 31st March 2026
DESCRIPTION:This course consists of a one day’s training in Outdoor First Aid Procedures designed to give the student a basic knowledge for providing first aid in the outdoors. \nLeading groups of people in remote areas\, or participating in any outdoor activities can bring with it unknown hazards.  Common injuries sustained in the outdoors range from simple cuts and grazes to broken limbs\, head and back injuries and hypothermia. \nBeing prepared to deal with any emergency should always form part of your emergency plan and you should be prepared to deal effectively with first aid related incidents when working in this environment.
URL:https://www.first-aid-cornwall.co.uk/first-aid-course/outdoor-first-aid-1-day-course-31st-march-2026/
LOCATION:Mount Pleasant Eco Park\, Chapel Hill\, Porthtowan\, Cornwall\, TR4 8HL\, United Kingdom
CATEGORIES:Outdoor First Aid
ATTACH;FMTTYPE=image/jpeg:https://www.first-aid-cornwall.co.uk/wp-content/uploads/2023/12/jakesmallwood_FIRSTAIDCORNWALL_46.jpg
ORGANIZER;CN="First Aid Cornwall":MAILTO:info@first-aid-cornwall.co.uk
GEO:50.2741874;-5.2374244
X-APPLE-STRUCTURED-LOCATION;VALUE=URI;X-ADDRESS=Mount Pleasant Eco Park Chapel Hill Porthtowan Cornwall TR4 8HL United Kingdom;X-APPLE-RADIUS=500;X-TITLE=Chapel Hill:geo:-5.2374244,50.2741874
END:VEVENT
END:VCALENDAR