BEGIN:VCALENDAR
VERSION:2.0
PRODID:-//First Aid Cornwall - ECPv6.15.20//NONSGML v1.0//EN
CALSCALE:GREGORIAN
METHOD:PUBLISH
X-WR-CALNAME:First Aid Cornwall
X-ORIGINAL-URL:https://www.first-aid-cornwall.co.uk
X-WR-CALDESC:Events for First Aid Cornwall
REFRESH-INTERVAL;VALUE=DURATION:PT1H
X-Robots-Tag:noindex
X-PUBLISHED-TTL:PT1H
BEGIN:VTIMEZONE
TZID:Europe/London
BEGIN:DAYLIGHT
TZOFFSETFROM:+0000
TZOFFSETTO:+0100
TZNAME:BST
DTSTART:20230326T010000
END:DAYLIGHT
BEGIN:STANDARD
TZOFFSETFROM:+0100
TZOFFSETTO:+0000
TZNAME:GMT
DTSTART:20231029T010000
END:STANDARD
BEGIN:DAYLIGHT
TZOFFSETFROM:+0000
TZOFFSETTO:+0100
TZNAME:BST
DTSTART:20240331T010000
END:DAYLIGHT
BEGIN:STANDARD
TZOFFSETFROM:+0100
TZOFFSETTO:+0000
TZNAME:GMT
DTSTART:20241027T010000
END:STANDARD
BEGIN:DAYLIGHT
TZOFFSETFROM:+0000
TZOFFSETTO:+0100
TZNAME:BST
DTSTART:20250330T010000
END:DAYLIGHT
BEGIN:STANDARD
TZOFFSETFROM:+0100
TZOFFSETTO:+0000
TZNAME:GMT
DTSTART:20251026T010000
END:STANDARD
END:VTIMEZONE
BEGIN:VEVENT
DTSTART;TZID=Europe/London:20240124T093000
DTEND;TZID=Europe/London:20240124T163000
DTSTAMP:20260421T234909
CREATED:20231218T145237Z
LAST-MODIFIED:20231218T150458Z
UID:10000005-1706088600-1706113800@www.first-aid-cornwall.co.uk
SUMMARY:Blended Learning First Aid at Work
DESCRIPTION:Our Blended Learning First Aid at Work course consists of 6 hours online learning followed by 2 days classroom based training. \nOnce you have booked on to the course you will receive an email from us containing your login details for our eLearning portal. \nOnline learning must be completed before attending your classroom based training. \nThe course provides learners with in-depth information and skills on how to provide effective treatment and care to a person\, or persons that become ill or injured whilst at work. The course has a large emphasis on practical application of the skills learnt and ample opportunity is provided for hands-on practice in a relaxed\, low stress environment.
URL:https://www.first-aid-cornwall.co.uk/first-aid-course/blended-learning-first-aid-at-work/
LOCATION:77 Lemon Street\, 77 Lemon Street\, Truro\, Cornwall\, TR1 2PN\, United Kingdom
CATEGORIES:Blended Learning First Aid at Work
ATTACH;FMTTYPE=image/jpeg:https://www.first-aid-cornwall.co.uk/wp-content/uploads/2023/12/Blended-Learning-First-Aid-at-Work.jpg
ORGANIZER;CN="First Aid Cornwall":MAILTO:info@first-aid-cornwall.co.uk
GEO:50.2623132;-5.0516999
X-APPLE-STRUCTURED-LOCATION;VALUE=URI;X-ADDRESS=77 Lemon Street 77 Lemon Street Truro Cornwall TR1 2PN United Kingdom;X-APPLE-RADIUS=500;X-TITLE=77 Lemon Street:geo:-5.0516999,50.2623132
END:VEVENT
BEGIN:VEVENT
DTSTART;TZID=Europe/London:20240122T093000
DTEND;TZID=Europe/London:20240122T163000
DTSTAMP:20260421T234909
CREATED:20231218T144113Z
LAST-MODIFIED:20240116T131623Z
UID:10000004-1705915800-1705941000@www.first-aid-cornwall.co.uk
SUMMARY:Blended Learning Paediatric & Early Years First Aid
DESCRIPTION:Our Blended Learning Paediatric course consists of 6 hours online learning followed by 1 days face to face training either at our training centre in Truro or at your place of work. \nOnline learning must be completed before attending your classroom based training. \nOnce you have booked on to the course you will receive an email from us containing your login details for our eLearning portal. \nThe Paediatric and Early Years course is designed for people who are working\, or intend to work in the childcare sector. This course has been designed to meet with the requirements of OFSTED for Early Years First Aid Provision. Additionally the course meets with the recommendations of the First Aid Regulations issued by the Health & Safety Executive for the ‘Appointed Person’.
URL:https://www.first-aid-cornwall.co.uk/first-aid-course/blended-learning-paediatric-early-years-first-aid/
LOCATION:77 Lemon Street\, 77 Lemon Street\, Truro\, Cornwall\, TR1 2PN\, United Kingdom
CATEGORIES:Blended Learning Paediatric & Early Years First Aid
ATTACH;FMTTYPE=image/jpeg:https://www.first-aid-cornwall.co.uk/wp-content/uploads/2023/12/Blended-Learning-Paediatric-Early-Years-First-Aid.jpg
ORGANIZER;CN="First Aid Cornwall":MAILTO:info@first-aid-cornwall.co.uk
GEO:50.2623132;-5.0516999
X-APPLE-STRUCTURED-LOCATION;VALUE=URI;X-ADDRESS=77 Lemon Street 77 Lemon Street Truro Cornwall TR1 2PN United Kingdom;X-APPLE-RADIUS=500;X-TITLE=77 Lemon Street:geo:-5.0516999,50.2623132
END:VEVENT
BEGIN:VEVENT
DTSTART;TZID=Europe/London:20240118T093000
DTEND;TZID=Europe/London:20240118T123000
DTSTAMP:20260421T234909
CREATED:20231218T140254Z
LAST-MODIFIED:20231218T144705Z
UID:10000003-1705570200-1705581000@www.first-aid-cornwall.co.uk
SUMMARY:Basic Life Support/First Aid Refresher 1/2 Day Course
DESCRIPTION:The Annual First Aid Refresher Training course provides students with Basic First Aid skills in line with current UK Resuscitation Council guidance.  It is an excellent aide-mémoire course for members of the public or community basic life saving skills during a short\, concise course that focuses on immediate priorities and effective\, simple care that can be performed until professional medical assistance arrives.
URL:https://www.first-aid-cornwall.co.uk/first-aid-course/basic-life-support-first-aid-refresher-1-2-day-course/
LOCATION:77 Lemon Street\, 77 Lemon Street\, Truro\, Cornwall\, TR1 2PN\, United Kingdom
CATEGORIES:Basic Life Support/First Aid Refresher 1/2 Day Course
ATTACH;FMTTYPE=image/jpeg:https://www.first-aid-cornwall.co.uk/wp-content/uploads/2023/12/Basic-Life-Support-First-Aid-Refresher-1-2-Day-Course.jpg
ORGANIZER;CN="First Aid Cornwall":MAILTO:info@first-aid-cornwall.co.uk
GEO:50.2623132;-5.0516999
X-APPLE-STRUCTURED-LOCATION;VALUE=URI;X-ADDRESS=77 Lemon Street 77 Lemon Street Truro Cornwall TR1 2PN United Kingdom;X-APPLE-RADIUS=500;X-TITLE=77 Lemon Street:geo:-5.0516999,50.2623132
END:VEVENT
BEGIN:VEVENT
DTSTART;TZID=Europe/London:20240117T093000
DTEND;TZID=Europe/London:20240117T150000
DTSTAMP:20260421T234909
CREATED:20231218T130009Z
LAST-MODIFIED:20231218T144456Z
UID:10000002-1705483800-1705503600@www.first-aid-cornwall.co.uk
SUMMARY:Fire Marshal Training Level 2
DESCRIPTION:This Fire Safety course is open to everyone\, whether you are responsible for fire safety at work or want to improve your knowledge and skills so you are prepared for a fire emergency in everyday life. \nThis Fire Safety / Level 2 Fire Marshal Training includes: \n\nThe basic chemistry of fire and its different classes\nCauses of fires and their prevention\nExtinguisher recognition and use (theory and practical)\nFire legislation\nEmergency lighting\nEvacuation assembly point and fire drills\nFire alarms\nFire hazards\nRoutine fire safety inspections and maintaining a fire logbook\nRisk assessment awareness\n\nThe course follows the Level 2 Fire Marshall Training syllabus and is certified through QNUK.
URL:https://www.first-aid-cornwall.co.uk/first-aid-course/fire-marshal-training-level-2/
LOCATION:Fibrehub\, Trevenson Lane Camborne\, England TR15 3GF\, Fibrehub\, Trevenson Lane\, Camborne\, Cornwall\, TR15 3GF\, United Kingdom
CATEGORIES:Fire Marshal Training Level 2
ATTACH;FMTTYPE=image/jpeg:https://www.first-aid-cornwall.co.uk/wp-content/uploads/2023/12/Fire-Marshal-Training-Level-2.jpg
ORGANIZER;CN="First Aid Cornwall":MAILTO:info@first-aid-cornwall.co.uk
GEO:50.2271623;-5.2793494
X-APPLE-STRUCTURED-LOCATION;VALUE=URI;X-ADDRESS=Fibrehub Trevenson Lane Camborne England TR15 3GF Fibrehub Trevenson Lane Camborne Cornwall TR15 3GF United Kingdom;X-APPLE-RADIUS=500;X-TITLE=Fibrehub\, Trevenson Lane:geo:-5.2793494,50.2271623
END:VEVENT
BEGIN:VEVENT
DTSTART;TZID=Europe/London:20240111T093000
DTEND;TZID=Europe/London:20240111T163000
DTSTAMP:20260421T234909
CREATED:20231218T120349Z
LAST-MODIFIED:20231219T102239Z
UID:10000001-1704965400-1704990600@www.first-aid-cornwall.co.uk
SUMMARY:Emergency First Aid at Work – 1 Day Course
DESCRIPTION:The content covers the basic essentials required to provide emergency care to a casualty.  Candidates will receive training in a range of first aid skills including: \n\nThe ability to act safely and effectively when an accident or emergency occurs.\nThe treatment and priorities of care for an unconscious casualty.\nThe recognition and treatment of a person in seizure.\nThe recognition of cardiac arrest and delivery of Cardiopulmonary Resuscitation (CPR).\nThe ability to recognise and safely treat a casualty who is choking.\nThe ability to safely and promptly treat a casualty who is bleeding\nThe keeping of simple records following an accident at work.
URL:https://www.first-aid-cornwall.co.uk/first-aid-course/emergency-first-aid-at-work-1-day-course/
LOCATION:77 Lemon Street\, 77 Lemon Street\, Truro\, Cornwall\, TR1 2PN\, United Kingdom
CATEGORIES:Emergency First Aid at Work – 1 Day Course
ATTACH;FMTTYPE=image/jpeg:https://www.first-aid-cornwall.co.uk/wp-content/uploads/2023/12/Emergency-First-Aid-at-Work-–-1-Day-Course.jpg
ORGANIZER;CN="First Aid Cornwall":MAILTO:info@first-aid-cornwall.co.uk
GEO:50.2623132;-5.0516999
X-APPLE-STRUCTURED-LOCATION;VALUE=URI;X-ADDRESS=77 Lemon Street 77 Lemon Street Truro Cornwall TR1 2PN United Kingdom;X-APPLE-RADIUS=500;X-TITLE=77 Lemon Street:geo:-5.0516999,50.2623132
END:VEVENT
BEGIN:VEVENT
DTSTART;TZID=Europe/London:20240111T093000
DTEND;TZID=Europe/London:20240111T150000
DTSTAMP:20260421T234909
CREATED:20231219T125246Z
LAST-MODIFIED:20231219T125308Z
UID:10000007-1704965400-1704985200@www.first-aid-cornwall.co.uk
SUMMARY:Fire Marshal Training Level 2
DESCRIPTION:This Fire Safety course is open to everyone\, whether you are responsible for fire safety at work or want to improve your knowledge and skills so you are prepared for a fire emergency in everyday life. \nThis Fire Safety / Level 2 Fire Marshal Training includes: \n\nThe basic chemistry of fire and its different classes\nCauses of fires and their prevention\nExtinguisher recognition and use (theory and practical)\nFire legislation\nEmergency lighting\nEvacuation assembly point and fire drills\nFire alarms\nFire hazards\nRoutine fire safety inspections and maintaining a fire logbook\nRisk assessment awareness\n\nThe course follows the Level 2 Fire Marshall Training syllabus and is certified through QNUK.
URL:https://www.first-aid-cornwall.co.uk/first-aid-course/fire-marshal-training-level-2-2/
LOCATION:Fibrehub\, Trevenson Lane Camborne\, England TR15 3GF\, Fibrehub\, Trevenson Lane\, Camborne\, Cornwall\, TR15 3GF\, United Kingdom
CATEGORIES:Fire Marshal Training Level 2
ATTACH;FMTTYPE=image/jpeg:https://www.first-aid-cornwall.co.uk/wp-content/uploads/2023/12/Fire-Marshal-Training-Level-2.jpg
ORGANIZER;CN="First Aid Cornwall":MAILTO:info@first-aid-cornwall.co.uk
GEO:50.2271623;-5.2793494
X-APPLE-STRUCTURED-LOCATION;VALUE=URI;X-ADDRESS=Fibrehub Trevenson Lane Camborne England TR15 3GF Fibrehub Trevenson Lane Camborne Cornwall TR15 3GF United Kingdom;X-APPLE-RADIUS=500;X-TITLE=Fibrehub\, Trevenson Lane:geo:-5.2793494,50.2271623
END:VEVENT
END:VCALENDAR