BEGIN:VCALENDAR
VERSION:2.0
PRODID:-//First Aid Cornwall - ECPv6.15.20//NONSGML v1.0//EN
CALSCALE:GREGORIAN
METHOD:PUBLISH
X-ORIGINAL-URL:https://www.first-aid-cornwall.co.uk
X-WR-CALDESC:Events for First Aid Cornwall
REFRESH-INTERVAL;VALUE=DURATION:PT1H
X-Robots-Tag:noindex
X-PUBLISHED-TTL:PT1H
BEGIN:VTIMEZONE
TZID:Europe/London
BEGIN:DAYLIGHT
TZOFFSETFROM:+0000
TZOFFSETTO:+0100
TZNAME:BST
DTSTART:20250330T010000
END:DAYLIGHT
BEGIN:STANDARD
TZOFFSETFROM:+0100
TZOFFSETTO:+0000
TZNAME:GMT
DTSTART:20251026T010000
END:STANDARD
BEGIN:DAYLIGHT
TZOFFSETFROM:+0000
TZOFFSETTO:+0100
TZNAME:BST
DTSTART:20260329T010000
END:DAYLIGHT
BEGIN:STANDARD
TZOFFSETFROM:+0100
TZOFFSETTO:+0000
TZNAME:GMT
DTSTART:20261025T010000
END:STANDARD
BEGIN:DAYLIGHT
TZOFFSETFROM:+0000
TZOFFSETTO:+0100
TZNAME:BST
DTSTART:20270328T010000
END:DAYLIGHT
BEGIN:STANDARD
TZOFFSETFROM:+0100
TZOFFSETTO:+0000
TZNAME:GMT
DTSTART:20271031T010000
END:STANDARD
END:VTIMEZONE
BEGIN:VEVENT
DTSTART;TZID=Europe/London:20260625T093000
DTEND;TZID=Europe/London:20260625T163000
DTSTAMP:20260420T141302
CREATED:20260311T102837Z
LAST-MODIFIED:20260311T102837Z
UID:10000224-1782379800-1782405000@www.first-aid-cornwall.co.uk
SUMMARY:Emergency First Aid at Work – 1 Day Course - 25th June 2026
DESCRIPTION:The content covers the basic essentials required to provide emergency care to a casualty.  Candidates will receive training in a range of first aid skills including: \n\nThe ability to act safely and effectively when an accident or emergency occurs.\nThe treatment and priorities of care for an unconscious casualty.\nThe recognition and treatment of a person in seizure.\nThe recognition of cardiac arrest and delivery of Cardiopulmonary Resuscitation (CPR).\nThe ability to recognise and safely treat a casualty who is choking.\nThe ability to safely and promptly treat a casualty who is bleeding.\nThe keeping of simple records following an accident at work.
URL:https://www.first-aid-cornwall.co.uk/first-aid-course/emergency-first-aid-at-work-1-day-course-25th-june-2026-2/
LOCATION:77 Lemon Street\, 77 Lemon Street\, Truro\, Cornwall\, TR1 2PN\, United Kingdom
CATEGORIES:Emergency First Aid at Work – 1 Day Course
ATTACH;FMTTYPE=image/jpeg:https://www.first-aid-cornwall.co.uk/wp-content/uploads/2023/12/Emergency-First-Aid-at-Work-–-1-Day-Course.jpg
ORGANIZER;CN="First Aid Cornwall":MAILTO:info@first-aid-cornwall.co.uk
GEO:50.2623132;-5.0516999
X-APPLE-STRUCTURED-LOCATION;VALUE=URI;X-ADDRESS=77 Lemon Street 77 Lemon Street Truro Cornwall TR1 2PN United Kingdom;X-APPLE-RADIUS=500;X-TITLE=77 Lemon Street:geo:-5.0516999,50.2623132
END:VEVENT
BEGIN:VEVENT
DTSTART;TZID=Europe/London:20260629T090000
DTEND;TZID=Europe/London:20260629T170000
DTSTAMP:20260420T141302
CREATED:20260413T145147Z
LAST-MODIFIED:20260413T145147Z
UID:10000232-1782723600-1782752400@www.first-aid-cornwall.co.uk
SUMMARY:Outdoor First Aid 1 Day Course - 29th June 2026
DESCRIPTION:This course consists of a one day’s training in Outdoor First Aid Procedures designed to give the student a basic knowledge for providing first aid in the outdoors. \nLeading groups of people in remote areas\, or participating in any outdoor activities can bring with it unknown hazards.  Common injuries sustained in the outdoors range from simple cuts and grazes to broken limbs\, head and back injuries and hypothermia. \nBeing prepared to deal with any emergency should always form part of your emergency plan and you should be prepared to deal effectively with first aid related incidents when working in this environment.
URL:https://www.first-aid-cornwall.co.uk/first-aid-course/outdoor-first-aid-1-day-course-29th-june-2026-2/
LOCATION:Mount Pleasant Eco Park\, Chapel Hill\, Porthtowan\, Cornwall\, TR4 8HL\, United Kingdom
CATEGORIES:Outdoor First Aid
ATTACH;FMTTYPE=image/jpeg:https://www.first-aid-cornwall.co.uk/wp-content/uploads/2023/12/jakesmallwood_FIRSTAIDCORNWALL_46.jpg
ORGANIZER;CN="First Aid Cornwall":MAILTO:info@first-aid-cornwall.co.uk
GEO:50.2741874;-5.2374244
X-APPLE-STRUCTURED-LOCATION;VALUE=URI;X-ADDRESS=Mount Pleasant Eco Park Chapel Hill Porthtowan Cornwall TR4 8HL United Kingdom;X-APPLE-RADIUS=500;X-TITLE=Chapel Hill:geo:-5.2374244,50.2741874
END:VEVENT
END:VCALENDAR