BEGIN:VCALENDAR
VERSION:2.0
PRODID:-//First Aid Cornwall - ECPv6.15.20//NONSGML v1.0//EN
CALSCALE:GREGORIAN
METHOD:PUBLISH
X-ORIGINAL-URL:https://www.first-aid-cornwall.co.uk
X-WR-CALDESC:Events for First Aid Cornwall
REFRESH-INTERVAL;VALUE=DURATION:PT1H
X-Robots-Tag:noindex
X-PUBLISHED-TTL:PT1H
BEGIN:VTIMEZONE
TZID:Europe/London
BEGIN:DAYLIGHT
TZOFFSETFROM:+0000
TZOFFSETTO:+0100
TZNAME:BST
DTSTART:20250330T010000
END:DAYLIGHT
BEGIN:STANDARD
TZOFFSETFROM:+0100
TZOFFSETTO:+0000
TZNAME:GMT
DTSTART:20251026T010000
END:STANDARD
BEGIN:DAYLIGHT
TZOFFSETFROM:+0000
TZOFFSETTO:+0100
TZNAME:BST
DTSTART:20260329T010000
END:DAYLIGHT
BEGIN:STANDARD
TZOFFSETFROM:+0100
TZOFFSETTO:+0000
TZNAME:GMT
DTSTART:20261025T010000
END:STANDARD
BEGIN:DAYLIGHT
TZOFFSETFROM:+0000
TZOFFSETTO:+0100
TZNAME:BST
DTSTART:20270328T010000
END:DAYLIGHT
BEGIN:STANDARD
TZOFFSETFROM:+0100
TZOFFSETTO:+0000
TZNAME:GMT
DTSTART:20271031T010000
END:STANDARD
END:VTIMEZONE
BEGIN:VEVENT
DTSTART;TZID=Europe/London:20260511T090000
DTEND;TZID=Europe/London:20260511T170000
DTSTAMP:20260420T092445
CREATED:20260413T144649Z
LAST-MODIFIED:20260413T145225Z
UID:10000231-1778490000-1778518800@www.first-aid-cornwall.co.uk
SUMMARY:Outdoor First Aid 1 Day Course - 11th May 2026
DESCRIPTION:This course consists of a one day’s training in Outdoor First Aid Procedures designed to give the student a basic knowledge for providing first aid in the outdoors. \nLeading groups of people in remote areas\, or participating in any outdoor activities can bring with it unknown hazards.  Common injuries sustained in the outdoors range from simple cuts and grazes to broken limbs\, head and back injuries and hypothermia. \nBeing prepared to deal with any emergency should always form part of your emergency plan and you should be prepared to deal effectively with first aid related incidents when working in this environment.
URL:https://www.first-aid-cornwall.co.uk/first-aid-course/outdoor-first-aid-1-day-course-11th-may-2026/
LOCATION:Mount Pleasant Eco Park\, Chapel Hill\, Porthtowan\, Cornwall\, TR4 8HL\, United Kingdom
CATEGORIES:Outdoor First Aid
ATTACH;FMTTYPE=image/jpeg:https://www.first-aid-cornwall.co.uk/wp-content/uploads/2023/12/jakesmallwood_FIRSTAIDCORNWALL_46.jpg
ORGANIZER;CN="First Aid Cornwall":MAILTO:info@first-aid-cornwall.co.uk
GEO:50.2741874;-5.2374244
X-APPLE-STRUCTURED-LOCATION;VALUE=URI;X-ADDRESS=Mount Pleasant Eco Park Chapel Hill Porthtowan Cornwall TR4 8HL United Kingdom;X-APPLE-RADIUS=500;X-TITLE=Chapel Hill:geo:-5.2374244,50.2741874
END:VEVENT
BEGIN:VEVENT
DTSTART;TZID=Europe/London:20260511T093000
DTEND;TZID=Europe/London:20260511T163000
DTSTAMP:20260420T092445
CREATED:20260209T104121Z
LAST-MODIFIED:20260209T104121Z
UID:10000214-1778491800-1778517000@www.first-aid-cornwall.co.uk
SUMMARY:Emergency First Aid at Work – 1 Day Course - 11th May 2026
DESCRIPTION:The content covers the basic essentials required to provide emergency care to a casualty.  Candidates will receive training in a range of first aid skills including: \n\nThe ability to act safely and effectively when an accident or emergency occurs.\nThe treatment and priorities of care for an unconscious casualty.\nThe recognition and treatment of a person in seizure.\nThe recognition of cardiac arrest and delivery of Cardiopulmonary Resuscitation (CPR).\nThe ability to recognise and safely treat a casualty who is choking.\nThe ability to safely and promptly treat a casualty who is bleeding.\nThe keeping of simple records following an accident at work.
URL:https://www.first-aid-cornwall.co.uk/first-aid-course/emergency-first-aid-at-work-1-day-course-11th-may-2026-2/
LOCATION:77 Lemon Street\, 77 Lemon Street\, Truro\, Cornwall\, TR1 2PN\, United Kingdom
CATEGORIES:Emergency First Aid at Work – 1 Day Course
ATTACH;FMTTYPE=image/jpeg:https://www.first-aid-cornwall.co.uk/wp-content/uploads/2023/12/Emergency-First-Aid-at-Work-–-1-Day-Course.jpg
ORGANIZER;CN="First Aid Cornwall":MAILTO:info@first-aid-cornwall.co.uk
GEO:50.2623132;-5.0516999
X-APPLE-STRUCTURED-LOCATION;VALUE=URI;X-ADDRESS=77 Lemon Street 77 Lemon Street Truro Cornwall TR1 2PN United Kingdom;X-APPLE-RADIUS=500;X-TITLE=77 Lemon Street:geo:-5.0516999,50.2623132
END:VEVENT
BEGIN:VEVENT
DTSTART;TZID=Europe/London:20260518T093000
DTEND;TZID=Europe/London:20260518T163000
DTSTAMP:20260420T092445
CREATED:20260209T104459Z
LAST-MODIFIED:20260209T104459Z
UID:10000215-1779096600-1779121800@www.first-aid-cornwall.co.uk
SUMMARY:Emergency First Aid at Work – 1 Day Course - 18th May 2026
DESCRIPTION:The content covers the basic essentials required to provide emergency care to a casualty.  Candidates will receive training in a range of first aid skills including: \n\nThe ability to act safely and effectively when an accident or emergency occurs.\nThe treatment and priorities of care for an unconscious casualty.\nThe recognition and treatment of a person in seizure.\nThe recognition of cardiac arrest and delivery of Cardiopulmonary Resuscitation (CPR).\nThe ability to recognise and safely treat a casualty who is choking.\nThe ability to safely and promptly treat a casualty who is bleeding.\nThe keeping of simple records following an accident at work.
URL:https://www.first-aid-cornwall.co.uk/first-aid-course/emergency-first-aid-at-work-1-day-course-18th-may-2026/
LOCATION:77 Lemon Street\, 77 Lemon Street\, Truro\, Cornwall\, TR1 2PN\, United Kingdom
CATEGORIES:Emergency First Aid at Work – 1 Day Course
ATTACH;FMTTYPE=image/jpeg:https://www.first-aid-cornwall.co.uk/wp-content/uploads/2023/12/Emergency-First-Aid-at-Work-–-1-Day-Course.jpg
ORGANIZER;CN="First Aid Cornwall":MAILTO:info@first-aid-cornwall.co.uk
GEO:50.2623132;-5.0516999
X-APPLE-STRUCTURED-LOCATION;VALUE=URI;X-ADDRESS=77 Lemon Street 77 Lemon Street Truro Cornwall TR1 2PN United Kingdom;X-APPLE-RADIUS=500;X-TITLE=77 Lemon Street:geo:-5.0516999,50.2623132
END:VEVENT
BEGIN:VEVENT
DTSTART;TZID=Europe/London:20260527T093000
DTEND;TZID=Europe/London:20260528T163000
DTSTAMP:20260420T092445
CREATED:20260316T144158Z
LAST-MODIFIED:20260316T144158Z
UID:10000228-1779874200-1779985800@www.first-aid-cornwall.co.uk
SUMMARY:Blended Learning First Aid at Work 27th May 2026
DESCRIPTION:Our Blended Learning First Aid at Work course consists of 6 hours online learning followed by 2 days classroom based training. \nOnce you have booked on to the course you will receive an email from us containing your login details for our eLearning portal. \nOnline learning must be completed before attending your classroom based training. \nThe course provides learners with in-depth information and skills on how to provide effective treatment and care to a person\, or persons that become ill or injured whilst at work. The course has a large emphasis on practical application of the skills learnt and ample opportunity is provided for hands-on practice in a relaxed\, low stress environment.
URL:https://www.first-aid-cornwall.co.uk/first-aid-course/blended-learning-first-aid-at-work-27th-may-2026/
LOCATION:77 Lemon Street\, 77 Lemon Street\, Truro\, Cornwall\, TR1 2PN\, United Kingdom
CATEGORIES:Blended Learning First Aid at Work
ATTACH;FMTTYPE=image/jpeg:https://www.first-aid-cornwall.co.uk/wp-content/uploads/2023/12/jakesmallwood_FIRSTAIDCORNWALL_34.jpg
ORGANIZER;CN="First Aid Cornwall":MAILTO:info@first-aid-cornwall.co.uk
GEO:50.2623132;-5.0516999
X-APPLE-STRUCTURED-LOCATION;VALUE=URI;X-ADDRESS=77 Lemon Street 77 Lemon Street Truro Cornwall TR1 2PN United Kingdom;X-APPLE-RADIUS=500;X-TITLE=77 Lemon Street:geo:-5.0516999,50.2623132
END:VEVENT
BEGIN:VEVENT
DTSTART;TZID=Europe/London:20260527T093000
DTEND;TZID=Europe/London:20260528T163000
DTSTAMP:20260420T092445
CREATED:20260316T144600Z
LAST-MODIFIED:20260316T144600Z
UID:10000229-1779874200-1779985800@www.first-aid-cornwall.co.uk
SUMMARY:First Aid at Work Requalification 27th May 2026
DESCRIPTION:This is an Awarding Organisation compliant course as regulated by the Health & Safety Executive. A two-day re-qualification course that meets the current Health & Safety (First Aid) Regulations. The course is delivered in accordance with the Approved Code of Practice L74 for qualifying First Aid personnel in the workplace. \nThis re-qualification is only available to students who have previously attended a full\, 3-day First Aid at Work course. \nThe course instructor will need to be supplied with a copy of the previous certificate prior to attending the re-qualification course. \nThis certificate can be only be supplied by any HSE approved supplier of First Aid at Work and should contain the providers approval number. \nThe certificate must either be current or not have expired in excess of 30 days prior to re-qualification start date. \nAs with the full First Aid at Work course there is a large emphasis on practical application of the skills learnt and ample opportunity is provided for hands-on practice in a relaxed\, low stress environment. \nCandidates will receive refresher training in a wide range of first aid skills including: \n\nThe ability to act safely and effectively when an accident or emergency occurs\nThe treatment and priorities of care for an unconscious casualty\nThe recognition of cardiac arrest and delivery of Cardiopulmonary Resuscitation (CPR)\nThe ability to safely and promptly treat a casualty who is bleeding\nThe ability to recognise and treat a casualty in shock\nThe keeping of simple records following an accident at work\n\nStudents will also learn to provide care for a casualty who has: \n\nsuffered a burn or scald\ninjured bones\, muscles or joints\nbeen poisoned by ingestion or inhalation of a substance or gas\nsuffered an injury to the eye\nsigns & symptoms of a major illness e.g. heart attack\n\nCandidates are required to undertake an assessment of knowledge and practical skill application on the final day of the course by an approved assessor who is independent and has not taken part in any of the training.
URL:https://www.first-aid-cornwall.co.uk/first-aid-course/first-aid-at-work-requalification-27th-may-2026/
LOCATION:77 Lemon Street\, 77 Lemon Street\, Truro\, Cornwall\, TR1 2PN\, United Kingdom
CATEGORIES:First Aid at Work Re-Qualification
ATTACH;FMTTYPE=image/jpeg:https://www.first-aid-cornwall.co.uk/wp-content/uploads/2023/12/jakesmallwood_FIRSTAIDCORNWALL_34.jpg
ORGANIZER;CN="First Aid Cornwall":MAILTO:info@first-aid-cornwall.co.uk
GEO:50.2623132;-5.0516999
X-APPLE-STRUCTURED-LOCATION;VALUE=URI;X-ADDRESS=77 Lemon Street 77 Lemon Street Truro Cornwall TR1 2PN United Kingdom;X-APPLE-RADIUS=500;X-TITLE=77 Lemon Street:geo:-5.0516999,50.2623132
END:VEVENT
END:VCALENDAR