BEGIN:VCALENDAR
VERSION:2.0
PRODID:-//First Aid Cornwall - ECPv6.15.20//NONSGML v1.0//EN
CALSCALE:GREGORIAN
METHOD:PUBLISH
X-WR-CALNAME:First Aid Cornwall
X-ORIGINAL-URL:https://www.first-aid-cornwall.co.uk
X-WR-CALDESC:Events for First Aid Cornwall
REFRESH-INTERVAL;VALUE=DURATION:PT1H
X-Robots-Tag:noindex
X-PUBLISHED-TTL:PT1H
BEGIN:VTIMEZONE
TZID:Europe/London
BEGIN:DAYLIGHT
TZOFFSETFROM:+0000
TZOFFSETTO:+0100
TZNAME:BST
DTSTART:20230326T010000
END:DAYLIGHT
BEGIN:STANDARD
TZOFFSETFROM:+0100
TZOFFSETTO:+0000
TZNAME:GMT
DTSTART:20231029T010000
END:STANDARD
BEGIN:DAYLIGHT
TZOFFSETFROM:+0000
TZOFFSETTO:+0100
TZNAME:BST
DTSTART:20240331T010000
END:DAYLIGHT
BEGIN:STANDARD
TZOFFSETFROM:+0100
TZOFFSETTO:+0000
TZNAME:GMT
DTSTART:20241027T010000
END:STANDARD
BEGIN:DAYLIGHT
TZOFFSETFROM:+0000
TZOFFSETTO:+0100
TZNAME:BST
DTSTART:20250330T010000
END:DAYLIGHT
BEGIN:STANDARD
TZOFFSETFROM:+0100
TZOFFSETTO:+0000
TZNAME:GMT
DTSTART:20251026T010000
END:STANDARD
END:VTIMEZONE
BEGIN:VEVENT
DTSTART;TZID=Europe/London:20241001T090000
DTEND;TZID=Europe/London:20241001T170000
DTSTAMP:20260421T070301
CREATED:20240827T095736Z
LAST-MODIFIED:20240827T095736Z
UID:10000083-1727773200-1727802000@www.first-aid-cornwall.co.uk
SUMMARY:Outdoor First Aid 1 Day Course - 1st October 2024
DESCRIPTION:This course consists of a one day’s training in Outdoor First Aid Procedures designed to give the student a basic knowledge for providing first aid in the outdoors. \nLeading groups of people in remote areas\, or participating in any outdoor activities can bring with it unknown hazards.  Common injuries sustained in the outdoors range from simple cuts and grazes to broken limbs\, head and back injuries and hypothermia. \nBeing prepared to deal with any emergency should always form part of your emergency plan and you should be prepared to deal effectively with first aid related incidents when working in this environment.
URL:https://www.first-aid-cornwall.co.uk/first-aid-course/outdoor-first-aid-1-day-course-1st-october-2024/
LOCATION:Mount Pleasant Eco Park\, Chapel Hill\, Porthtowan\, Cornwall\, TR4 8HL\, United Kingdom
CATEGORIES:Outdoor First Aid
ATTACH;FMTTYPE=image/jpeg:https://www.first-aid-cornwall.co.uk/wp-content/uploads/2023/12/jakesmallwood_FIRSTAIDCORNWALL_46.jpg
ORGANIZER;CN="First Aid Cornwall":MAILTO:info@first-aid-cornwall.co.uk
GEO:50.2741874;-5.2374244
X-APPLE-STRUCTURED-LOCATION;VALUE=URI;X-ADDRESS=Mount Pleasant Eco Park Chapel Hill Porthtowan Cornwall TR4 8HL United Kingdom;X-APPLE-RADIUS=500;X-TITLE=Chapel Hill:geo:-5.2374244,50.2741874
END:VEVENT
BEGIN:VEVENT
DTSTART;TZID=Europe/London:20240820T090000
DTEND;TZID=Europe/London:20240821T170000
DTSTAMP:20260421T070301
CREATED:20240722T091030Z
LAST-MODIFIED:20240722T091030Z
UID:10000071-1724144400-1724259600@www.first-aid-cornwall.co.uk
SUMMARY:Outdoor First Aid 2 Day Course
DESCRIPTION:This course consists of a two day’s training in Outdoor First Aid Procedures designed to give the student a basic knowledge for providing first aid in the outdoors. Leading groups of people in remote areas\, or participating in any outdoor activities can bring with it unknown hazards. \nDelays in emergency service attendance times\, lack of effective communication and difficulty in evacuation of casualties all present additional problems for the first aider when working in the outdoors.  The focus of our First Aid for Outdoor Activities programme is to address these issues.  Students receive training to provide first aid for longer periods than would be expected in more urban environments.
URL:https://www.first-aid-cornwall.co.uk/first-aid-course/outdoor-first-aid-2-day-course-20th-august-2024/
LOCATION:Mount Pleasant Eco Park\, Chapel Hill\, Porthtowan\, Cornwall\, TR4 8HL\, United Kingdom
CATEGORIES:Outdoor First Aid
ATTACH;FMTTYPE=image/jpeg:https://www.first-aid-cornwall.co.uk/wp-content/uploads/2023/12/jakesmallwood_FIRSTAIDCORNWALL_46.jpg
ORGANIZER;CN="First Aid Cornwall":MAILTO:info@first-aid-cornwall.co.uk
GEO:50.2741874;-5.2374244
X-APPLE-STRUCTURED-LOCATION;VALUE=URI;X-ADDRESS=Mount Pleasant Eco Park Chapel Hill Porthtowan Cornwall TR4 8HL United Kingdom;X-APPLE-RADIUS=500;X-TITLE=Chapel Hill:geo:-5.2374244,50.2741874
END:VEVENT
BEGIN:VEVENT
DTSTART;TZID=Europe/London:20240514T090000
DTEND;TZID=Europe/London:20240514T170000
DTSTAMP:20260421T070301
CREATED:20240305T103301Z
LAST-MODIFIED:20240306T133747Z
UID:10000044-1715677200-1715706000@www.first-aid-cornwall.co.uk
SUMMARY:Outdoor First Aid 1 Day Course
DESCRIPTION:This course consists of a one day’s training in Outdoor First Aid Procedures designed to give the student a basic knowledge for providing first aid in the outdoors. \nLeading groups of people in remote areas\, or participating in any outdoor activities can bring with it unknown hazards.  Common injuries sustained in the outdoors range from simple cuts and grazes to broken limbs\, head and back injuries and hypothermia. \nBeing prepared to deal with any emergency should always form part of your emergency plan and you should be prepared to deal effectively with first aid related incidents when working in this environment.
URL:https://www.first-aid-cornwall.co.uk/first-aid-course/outdoor-first-aid-1-day-course-14th-may-2024/
LOCATION:Mount Pleasant Eco Park\, Chapel Hill\, Porthtowan\, Cornwall\, TR4 8HL\, United Kingdom
CATEGORIES:Outdoor First Aid
ATTACH;FMTTYPE=image/jpeg:https://www.first-aid-cornwall.co.uk/wp-content/uploads/2023/12/jakesmallwood_FIRSTAIDCORNWALL_46.jpg
ORGANIZER;CN="First Aid Cornwall":MAILTO:info@first-aid-cornwall.co.uk
GEO:50.2741874;-5.2374244
X-APPLE-STRUCTURED-LOCATION;VALUE=URI;X-ADDRESS=Mount Pleasant Eco Park Chapel Hill Porthtowan Cornwall TR4 8HL United Kingdom;X-APPLE-RADIUS=500;X-TITLE=Chapel Hill:geo:-5.2374244,50.2741874
END:VEVENT
BEGIN:VEVENT
DTSTART;TZID=Europe/London:20240410T090000
DTEND;TZID=Europe/London:20240410T170000
DTSTAMP:20260421T070301
CREATED:20240305T103013Z
LAST-MODIFIED:20240307T095016Z
UID:10000043-1712739600-1712768400@www.first-aid-cornwall.co.uk
SUMMARY:Outdoor First Aid 1 Day Course 10th April 2024
DESCRIPTION:This course consists of a one day’s training in Outdoor First Aid Procedures designed to give the student a basic knowledge for providing first aid in the outdoors. \nLeading groups of people in remote areas\, or participating in any outdoor activities can bring with it unknown hazards.  Common injuries sustained in the outdoors range from simple cuts and grazes to broken limbs\, head and back injuries and hypothermia. \nBeing prepared to deal with any emergency should always form part of your emergency plan and you should be prepared to deal effectively with first aid related incidents when working in this environment.
URL:https://www.first-aid-cornwall.co.uk/first-aid-course/outdoor-first-aid-1-day-course-10th-april-2024/
LOCATION:Mount Pleasant Eco Park\, Chapel Hill\, Porthtowan\, Cornwall\, TR4 8HL\, United Kingdom
CATEGORIES:Outdoor First Aid
ATTACH;FMTTYPE=image/jpeg:https://www.first-aid-cornwall.co.uk/wp-content/uploads/2023/12/jakesmallwood_FIRSTAIDCORNWALL_46.jpg
ORGANIZER;CN="First Aid Cornwall":MAILTO:info@first-aid-cornwall.co.uk
GEO:50.2741874;-5.2374244
X-APPLE-STRUCTURED-LOCATION;VALUE=URI;X-ADDRESS=Mount Pleasant Eco Park Chapel Hill Porthtowan Cornwall TR4 8HL United Kingdom;X-APPLE-RADIUS=500;X-TITLE=Chapel Hill:geo:-5.2374244,50.2741874
END:VEVENT
BEGIN:VEVENT
DTSTART;TZID=Europe/London:20240220T090000
DTEND;TZID=Europe/London:20240220T170000
DTSTAMP:20260421T070301
CREATED:20240212T112026Z
LAST-MODIFIED:20240212T142535Z
UID:10000023-1708419600-1708448400@www.first-aid-cornwall.co.uk
SUMMARY:Outdoor First Aid 1 Day Course
DESCRIPTION:This course consists of a one day’s training in Outdoor First Aid Procedures designed to give the student a basic knowledge for providing first aid in the outdoors. \nLeading groups of people in remote areas\, or participating in any outdoor activities can bring with it unknown hazards.  Common injuries sustained in the outdoors range from simple cuts and grazes to broken limbs\, head and back injuries and hypothermia. \nBeing prepared to deal with any emergency should always form part of your emergency plan and you should be prepared to deal effectively with first aid related incidents when working in this environment.
URL:https://www.first-aid-cornwall.co.uk/first-aid-course/outdoor-first-aid-1-day-course/
LOCATION:Mount Pleasant Eco Park\, Chapel Hill\, Porthtowan\, Cornwall\, TR4 8HL\, United Kingdom
CATEGORIES:Outdoor First Aid
ATTACH;FMTTYPE=image/jpeg:https://www.first-aid-cornwall.co.uk/wp-content/uploads/2023/12/jakesmallwood_FIRSTAIDCORNWALL_46.jpg
ORGANIZER;CN="First Aid Cornwall":MAILTO:info@first-aid-cornwall.co.uk
GEO:50.2741874;-5.2374244
X-APPLE-STRUCTURED-LOCATION;VALUE=URI;X-ADDRESS=Mount Pleasant Eco Park Chapel Hill Porthtowan Cornwall TR4 8HL United Kingdom;X-APPLE-RADIUS=500;X-TITLE=Chapel Hill:geo:-5.2374244,50.2741874
END:VEVENT
END:VCALENDAR